BEGIN:VCALENDAR
VERSION:2.0
PRODID:-//104.152.168.27//NONSGML kigkonsult.se iCalcreator 2.20//
CALSCALE:GREGORIAN
METHOD:PUBLISH
X-WR-TIMEZONE:Asia/Tokyo
BEGIN:VEVENT
UID:event20148@Tokyo Gig Guide
DTSTAMP:20260423T101936Z
CATEGORIES:DJ\, Electronic\, Experimental\, Noise
DESCRIPTION:Blazej Malinowski\, Alan Backdrop\, Takaaki Itoh\, DJ YAZI\, Yo
 shitaka Shirakura\, HAIRSTYLISTICS\, more\nカテゴリ: DJ\, Electronic\, Experim
 ental\, Noise\nリンク: https://www.tokyogigguide.com/index.php?option=com_jem
 &view=event&id=20148:blazej-malinowski-alan-backdrop-takaaki-itoh-dj-yazi-
 yoshitaka-shirakura-hairstylistics-etc&Itemid=1094\n
DTSTART:20180817T220000
DTEND:20180817T220000
LOCATION:Contact\,B2F 2-10-12 DOGENZAKA\, SHIBUYA-KU\,Shibuya
SUMMARY:Blazej Malinowski\, Alan Backdrop\, Takaaki Itoh\, DJ YAZI\, Yoshit
 aka Shirakura\, HAIRSTYLISTICS\, more
URL:https://www.tokyogigguide.com/index.php?option=com_jem&view=event&id=20
 148:blazej-malinowski-alan-backdrop-takaaki-itoh-dj-yazi-yoshitaka-shiraku
 ra-hairstylistics-etc&Itemid=1094
END:VEVENT
END:VCALENDAR
