BEGIN:VCALENDAR
VERSION:2.0
PRODID:-//104.152.168.27//NONSGML kigkonsult.se iCalcreator 2.20//
CALSCALE:GREGORIAN
METHOD:PUBLISH
X-WR-TIMEZONE:Asia/Tokyo
BEGIN:VEVENT
UID:event20034@Tokyo Gig Guide
DTSTAMP:20260424T072116Z
CATEGORIES:All Mix\, DJ\, Electro\, House
DESCRIPTION:Cut Copy (DJ Set)\nカテゴリ: All Mix\, DJ\, Electro\, House\nリンク: h
 ttps://www.tokyogigguide.com/index.php?option=com_jem&view=event&id=20034:
 cut-copy-dj-set&Itemid=1094\n
DTSTART:20180716T170000
DTEND:20180716T170000
LOCATION:Contact\,B2F 2-10-12 DOGENZAKA\, SHIBUYA-KU\,Shibuya
SUMMARY:Cut Copy (DJ Set)
URL:https://www.tokyogigguide.com/index.php?option=com_jem&view=event&id=20
 034:cut-copy-dj-set&Itemid=1094
END:VEVENT
END:VCALENDAR
