BEGIN:VCALENDAR
VERSION:2.0
PRODID:-//104.152.168.27//NONSGML kigkonsult.se iCalcreator 2.20//
CALSCALE:GREGORIAN
METHOD:PUBLISH
X-WR-TIMEZONE:Asia/Tokyo
BEGIN:VEVENT
UID:event20028@Tokyo Gig Guide
DTSTAMP:20260425T142733Z
CATEGORIES:Avant garde\, Free Jazz\, Improvised\, Instrumental\, Jazz
DESCRIPTION:Junji Hirose\, Kazuya Wakabayashi\, Fumito Sugo\nカテゴリ: Avant ga
 rde\, Free Jazz\, Improvised\, Instrumental\, Jazz\nリンク: https://www.tokyo
 gigguide.com/index.php?option=com_jem&view=event&id=20028:session&Itemid=1
 094\n
DTSTART:20180918T193000
DTEND:20180918T193000
LOCATION:Cafe 52\,Toyotamakita 6-14-3\, Nerima-ku\,Nerima
SUMMARY:Junji Hirose\, Kazuya Wakabayashi\, Fumito Sugo
URL:https://www.tokyogigguide.com/index.php?option=com_jem&view=event&id=20
 028:session&Itemid=1094
END:VEVENT
END:VCALENDAR
