BEGIN:VCALENDAR
VERSION:2.0
PRODID:-//104.152.168.27//NONSGML kigkonsult.se iCalcreator 2.20//
CALSCALE:GREGORIAN
METHOD:PUBLISH
X-WR-TIMEZONE:Asia/Tokyo
BEGIN:VEVENT
UID:event19691@Tokyo Gig Guide
DTSTAMP:20260423T222144Z
CATEGORIES:Progressive
DESCRIPTION:Fukkoku Souseiki (Genesis Tribute Band)\nカテゴリ: Progressive\nリンク
 : https://www.tokyogigguide.com/index.php?option=com_jem&view=event&id=196
 91:genesis-tribute-band-fukkoku-souseiki-live&Itemid=1094\n
DTSTART:20181028T170000
DTEND:20181028T170000
LOCATION:Silver Elephant\,2-10-6 B1\, Kichijoji Honmachi\,Kichijoji
SUMMARY:Fukkoku Souseiki (Genesis Tribute Band)
URL:https://www.tokyogigguide.com/index.php?option=com_jem&view=event&id=19
 691:genesis-tribute-band-fukkoku-souseiki-live&Itemid=1094
END:VEVENT
END:VCALENDAR
