BEGIN:VCALENDAR
VERSION:2.0
PRODID:-//104.152.168.27//NONSGML kigkonsult.se iCalcreator 2.20//
CALSCALE:GREGORIAN
METHOD:PUBLISH
X-WR-TIMEZONE:Asia/Tokyo
BEGIN:VEVENT
UID:event19623@Tokyo Gig Guide
DTSTAMP:20260420T222948Z
CATEGORIES:Math-Rock\, Progressive\, Rock
DESCRIPTION:Satyr\, 裸体のシルエット\, ilili\, Aftertalk\, jiji\nカテゴリ: Math-Rock\, 
 Progressive\, Rock\nリンク: https://www.tokyogigguide.com/index.php?option=co
 m_jem&view=event&id=19623:satyr-ilili-aftertalk-jiji&Itemid=1094\n
DTSTART:20180621T180000
DTEND:20180621T180000
LOCATION:Chop (Shutou)\,Sheema100 B1\, 2-46-3 Ikebukuro\,Ikebukuro
SUMMARY:Satyr\, 裸体のシルエット\, ilili\, Aftertalk\, jiji
URL:https://www.tokyogigguide.com/index.php?option=com_jem&view=event&id=19
 623:satyr-ilili-aftertalk-jiji&Itemid=1094
END:VEVENT
END:VCALENDAR
