BEGIN:VCALENDAR
VERSION:2.0
PRODID:-//104.152.168.27//NONSGML kigkonsult.se iCalcreator 2.20//
CALSCALE:GREGORIAN
METHOD:PUBLISH
X-WR-TIMEZONE:Asia/Tokyo
BEGIN:VEVENT
UID:event1951@Tokyo Gig Guide
DTSTAMP:20260423T204245Z
CATEGORIES:Indie
DESCRIPTION:YO LA TENGO\, Yura Yura Teikoku\nカテゴリ: Indie\nリンク: https://www.
 tokyogigguide.com/index.php?option=com_jem&view=event&id=1951:yo-la-tengo-
 yura-yura-teikoku&Itemid=1094\n
DTSTART:20091216T180000
DTEND:20091216T180000
LOCATION:O-East\,2F 2-14-9 Dogenzaka\, Shibuya-ku\,Shibuya
SUMMARY:YO LA TENGO\, Yura Yura Teikoku
URL:https://www.tokyogigguide.com/index.php?option=com_jem&view=event&id=19
 51:yo-la-tengo-yura-yura-teikoku&Itemid=1094
END:VEVENT
END:VCALENDAR
