BEGIN:VCALENDAR
VERSION:2.0
PRODID:-//104.152.168.27//NONSGML kigkonsult.se iCalcreator 2.20//
CALSCALE:GREGORIAN
METHOD:PUBLISH
X-WR-TIMEZONE:Asia/Tokyo
BEGIN:VEVENT
UID:event19436@Tokyo Gig Guide
DTSTAMP:20260420T193339Z
CATEGORIES:Psychedelic\, Psych-Folk
DESCRIPTION:Ayuo\, Masaki Batoh\, TOMO (hurdy gurdy)\nカテゴリ: Psychedelic\, P
 sych-Folk\nリンク: https://www.tokyogigguide.com/index.php?option=com_jem&vie
 w=event&id=19436:ayuo-masaki-batoh-tomo&Itemid=1094\n
DTSTART:20180607T190000
DTEND:20180607T190000
LOCATION:ZIMAGINE\,6-2-13-B1 Minami-Aoyama\, Minato-ku\, Tokyo\,Omotesando
SUMMARY:Ayuo\, Masaki Batoh\, TOMO (hurdy gurdy)
URL:https://www.tokyogigguide.com/index.php?option=com_jem&view=event&id=19
 436:ayuo-masaki-batoh-tomo&Itemid=1094
END:VEVENT
END:VCALENDAR
