BEGIN:VCALENDAR
VERSION:2.0
PRODID:-//104.152.168.27//NONSGML kigkonsult.se iCalcreator 2.20//
CALSCALE:GREGORIAN
METHOD:PUBLISH
X-WR-TIMEZONE:Asia/Tokyo
BEGIN:VEVENT
UID:event19419@Tokyo Gig Guide
DTSTAMP:20260425T124738Z
CATEGORIES:Grindcore\, Hardcore\, Punk
DESCRIPTION:COMMUNiCATES\, DAIEI SPRAY\, SYSTEMATIC DEATH\, LAST\, KORRUPTI
 ON\, MUSTANG\, EU'ARSE \nカテゴリ: Grindcore\, Hardcore\, Punk\nリンク: https://w
 ww.tokyogigguide.com/index.php?option=com_jem&view=event&id=19419:communic
 ates&Itemid=1094\n
DTSTART:20180526T173000
DTEND:20180526T173000
LOCATION:El Puente\,B1 8-8 Nishihiranumacho\, Nishi-ku\, Yokohama\,Yokohama
SUMMARY:COMMUNiCATES\, DAIEI SPRAY\, SYSTEMATIC DEATH\, LAST\, KORRUPTION\,
  MUSTANG\, EU'ARSE 
URL:https://www.tokyogigguide.com/index.php?option=com_jem&view=event&id=19
 419:communicates&Itemid=1094
END:VEVENT
END:VCALENDAR
