BEGIN:VCALENDAR
VERSION:2.0
PRODID:-//104.152.168.27//NONSGML kigkonsult.se iCalcreator 2.20//
CALSCALE:GREGORIAN
METHOD:PUBLISH
X-WR-TIMEZONE:Asia/Tokyo
BEGIN:VEVENT
UID:event19388@Tokyo Gig Guide
DTSTAMP:20260425T235921Z
CATEGORIES:Reggae\, R n B\, Rock\, Rock n Roll
DESCRIPTION:The Beat Jackers\, Negative Zero\, Creep Down\, Curry Ramen\, K
 oji Tamura\nカテゴリ: Reggae\, R n B\, Rock\, Rock n Roll\nリンク: https://www.to
 kyogigguide.com/index.php?option=com_jem&view=event&id=19388:the-beat-jack
 ers-negative-zero-creep-down-curry-ramen-koji-tamura&Itemid=1094\n
DTSTART:20180511T190000
DTEND:20180511T190000
LOCATION:NOB\,Maruyamacho 1-3 BF\, Shibuya-ku\,Shibuya
SUMMARY:The Beat Jackers\, Negative Zero\, Creep Down\, Curry Ramen\, Koji 
 Tamura
URL:https://www.tokyogigguide.com/index.php?option=com_jem&view=event&id=19
 388:the-beat-jackers-negative-zero-creep-down-curry-ramen-koji-tamura&Item
 id=1094
END:VEVENT
END:VCALENDAR
