BEGIN:VCALENDAR
VERSION:2.0
PRODID:-//104.152.168.27//NONSGML kigkonsult.se iCalcreator 2.20//
CALSCALE:GREGORIAN
METHOD:PUBLISH
X-WR-TIMEZONE:Asia/Tokyo
BEGIN:VEVENT
UID:event1924@Tokyo Gig Guide
DTSTAMP:20260421T051808Z
CATEGORIES:Hip-Hop
DESCRIPTION:JMW - Shake Forward! (Mixed Roots Hiphop festival) w/ Mina (Fro
 m Ainu rebels)\, Alice (Guam)\, more\nカテゴリ: Hip-Hop\nリンク: https://www.toky
 ogigguide.com/index.php?option=com_jem&view=event&id=1924:jmw-shake-forwar
 d-mixed-roots-hiphop-festival-w-mina-from-ainu-rebels-alice-guam-more&Item
 id=1094\n
DTSTART:20091113T190000
DTEND:20091113T190000
LOCATION:O-East\,2F 2-14-9 Dogenzaka\, Shibuya-ku\,Shibuya
SUMMARY:JMW - Shake Forward! (Mixed Roots Hiphop festival) w/ Mina (From Ai
 nu rebels)\, Alice (Guam)\, more
URL:https://www.tokyogigguide.com/index.php?option=com_jem&view=event&id=19
 24:jmw-shake-forward-mixed-roots-hiphop-festival-w-mina-from-ainu-rebels-a
 lice-guam-more&Itemid=1094
END:VEVENT
END:VCALENDAR
