BEGIN:VCALENDAR
VERSION:2.0
PRODID:-//104.152.168.27//NONSGML kigkonsult.se iCalcreator 2.20//
CALSCALE:GREGORIAN
METHOD:PUBLISH
X-WR-TIMEZONE:Asia/Tokyo
BEGIN:VEVENT
UID:event1893@Tokyo Gig Guide
DTSTAMP:20260421T064846Z
CATEGORIES:Mixed Genre
DESCRIPTION:Candles\, Back in Tokio\nカテゴリ: Mixed Genre\nリンク: https://www.to
 kyogigguide.com/index.php?option=com_jem&view=event&id=1893:candles-back-i
 n-tokio&Itemid=1094\n
DTSTART:20091102T193000
DTEND:20091102T193000
LOCATION:Knock (Koenji)\,Koenji Minami 3-48-6  B1F\,Koenji
SUMMARY:Candles\, Back in Tokio
URL:https://www.tokyogigguide.com/index.php?option=com_jem&view=event&id=18
 93:candles-back-in-tokio&Itemid=1094
END:VEVENT
END:VCALENDAR
