BEGIN:VCALENDAR
VERSION:2.0
PRODID:-//104.152.168.27//NONSGML kigkonsult.se iCalcreator 2.20//
CALSCALE:GREGORIAN
METHOD:PUBLISH
X-WR-TIMEZONE:Asia/Tokyo
BEGIN:VEVENT
UID:event18878@Tokyo Gig Guide
DTSTAMP:20260426T041924Z
CATEGORIES:Improvised
DESCRIPTION:YASUMUNE MORISHIGE (Cello)\, SHIZUO UCHIDA (Acoustic Bass)\, RI
 UICHI DAIJO (Guitar)\nカテゴリ: Improvised\nリンク: https://www.tokyogigguide.com
 /index.php?option=com_jem&view=event&id=18878:yasumune-morishige-cello-shi
 zuo-uchida-acoustic-bass-riuichi-daijo-guitar&Itemid=1094\n
DTSTART:20180218T193000
DTEND:20180218T193000
LOCATION:Permian\,B1\, 3-14-4\, Nishigotanda\, Shinagawa-ku\, Tokyo\,Meguro
SUMMARY:YASUMUNE MORISHIGE (Cello)\, SHIZUO UCHIDA (Acoustic Bass)\, RIUICH
 I DAIJO (Guitar)
URL:https://www.tokyogigguide.com/index.php?option=com_jem&view=event&id=18
 878:yasumune-morishige-cello-shizuo-uchida-acoustic-bass-riuichi-daijo-gui
 tar&Itemid=1094
END:VEVENT
END:VCALENDAR
