BEGIN:VCALENDAR
VERSION:2.0
PRODID:-//104.152.168.27//NONSGML kigkonsult.se iCalcreator 2.20//
CALSCALE:GREGORIAN
METHOD:PUBLISH
X-WR-TIMEZONE:Asia/Tokyo
BEGIN:VEVENT
UID:event18801@Tokyo Gig Guide
DTSTAMP:20260420T083151Z
CATEGORIES:Alternative
DESCRIPTION:merphillia\, Rosy Moon\, Miniscoop\, emulsion\nカテゴリ: Alternativ
 e\nリンク: https://www.tokyogigguide.com/index.php?option=com_jem&view=event&
 id=18801:merphillia-rosy-moon-miniscoop-emulsion&Itemid=1094\n
DTSTART:20180219T180000
DTEND:20180219T180000
LOCATION:Chop (Shutou)\,Sheema100 B1\, 2-46-3 Ikebukuro\,Ikebukuro
SUMMARY:merphillia\, Rosy Moon\, Miniscoop\, emulsion
URL:https://www.tokyogigguide.com/index.php?option=com_jem&view=event&id=18
 801:merphillia-rosy-moon-miniscoop-emulsion&Itemid=1094
END:VEVENT
END:VCALENDAR
