BEGIN:VCALENDAR
VERSION:2.0
PRODID:-//104.152.168.27//NONSGML kigkonsult.se iCalcreator 2.20//
CALSCALE:GREGORIAN
METHOD:PUBLISH
X-WR-TIMEZONE:Asia/Tokyo
BEGIN:VEVENT
UID:event18589@Tokyo Gig Guide
DTSTAMP:20260420T145930Z
CATEGORIES:Alternative\, Instrumental\, Math-Rock\, Post-Rock\, Progressive
DESCRIPTION:Nora In True North\, borderline case\, about tess\, もてあそべばゆううつ\
 , 吉野秀 & 木下明日香\nカテゴリ: Alternative\, Instrumental\, Math-Rock\, Post-Rock\, 
 Progressive\nリンク: https://www.tokyogigguide.com/index.php?option=com_jem&v
 iew=event&id=18589:nora-in-true-north-borderline-case-about-tess&Itemid=10
 94\n
DTSTART:20180111T180000
DTEND:20180111T180000
LOCATION:Chop (Shutou)\,Sheema100 B1\, 2-46-3 Ikebukuro\,Ikebukuro
SUMMARY:Nora In True North\, borderline case\, about tess\, もてあそべばゆううつ\, 吉野
 秀 & 木下明日香
URL:https://www.tokyogigguide.com/index.php?option=com_jem&view=event&id=18
 589:nora-in-true-north-borderline-case-about-tess&Itemid=1094
END:VEVENT
END:VCALENDAR
