BEGIN:VCALENDAR
VERSION:2.0
PRODID:-//104.152.168.27//NONSGML kigkonsult.se iCalcreator 2.20//
CALSCALE:GREGORIAN
METHOD:PUBLISH
X-WR-TIMEZONE:Asia/Tokyo
BEGIN:VEVENT
UID:event18439@Tokyo Gig Guide
DTSTAMP:20260421T141623Z
CATEGORIES:Alternative\, Indie-Pop\, Synth-pop
DESCRIPTION:Phoenix\nカテゴリ: Alternative\, Indie-Pop\, Synth-pop\nリンク: https:
 //www.tokyogigguide.com/index.php?option=com_jem&view=event&id=18439:phoen
 ix&Itemid=1094\n
DTSTART:20180423T180000
DTEND:20180423T180000
LOCATION:PIT\,Toyosu 6-1-23\, Koto-ku\, Tokyo\,Toyosu
SUMMARY:Phoenix
URL:https://www.tokyogigguide.com/index.php?option=com_jem&view=event&id=18
 439:phoenix&Itemid=1094
END:VEVENT
END:VCALENDAR
