BEGIN:VCALENDAR
VERSION:2.0
PRODID:-//104.152.168.27//NONSGML kigkonsult.se iCalcreator 2.20//
CALSCALE:GREGORIAN
METHOD:PUBLISH
X-WR-TIMEZONE:Asia/Tokyo
BEGIN:VEVENT
UID:event1834@Tokyo Gig Guide
DTSTAMP:20260420T053543Z
CATEGORIES:Punk
DESCRIPTION:LOVESICKNESS\, HAT TRICKERS\, Tissue\, PADDY PHIELD+\, LUCY&THE
  LIPSTIX\, HELL-RACER...\nカテゴリ: Punk\nリンク: https://www.tokyogigguide.com/i
 ndex.php?option=com_jem&view=event&id=1834:paddy-phield&Itemid=1094\n
DTSTART:20091123T180000
DTEND:20091123T180000
LOCATION:Heavy Sick\,Nishihara 2-27-4 B1\, Shibuya-ku\,Hatagaya
SUMMARY:LOVESICKNESS\, HAT TRICKERS\, Tissue\, PADDY PHIELD+\, LUCY&THE LIP
 STIX\, HELL-RACER...
URL:https://www.tokyogigguide.com/index.php?option=com_jem&view=event&id=18
 34:paddy-phield&Itemid=1094
END:VEVENT
END:VCALENDAR
