BEGIN:VCALENDAR
VERSION:2.0
PRODID:-//104.152.168.27//NONSGML kigkonsult.se iCalcreator 2.20//
CALSCALE:GREGORIAN
METHOD:PUBLISH
X-WR-TIMEZONE:Asia/Tokyo
BEGIN:VEVENT
UID:event18302@Tokyo Gig Guide
DTSTAMP:20260424T201315Z
CATEGORIES:Experimental\, House\, Improvised\, Noise
DESCRIPTION:Bear Bones Lay Low\, Keiji Haino + Merzbow\, DJ Nobu + Killer B
 ong\, YPY\, Twinpeaks\, Kurusu\, Kuri\, more\nカテゴリ: Experimental\, House\,
  Improvised\, Noise\nリンク: https://www.tokyogigguide.com/index.php?option=c
 om_jem&view=event&id=18302:bear-bones-lay-low-keiji-haino-merzbow-dj-nobu-
 killer-bong-ypy-twinpeaks-kurusu-kuri&Itemid=1094\n
DTSTART:20171117T200000
DTEND:20171117T200000
LOCATION:Contact\,B2F 2-10-12 DOGENZAKA\, SHIBUYA-KU\,Shibuya
SUMMARY:Bear Bones Lay Low\, Keiji Haino + Merzbow\, DJ Nobu + Killer Bong\
 , YPY\, Twinpeaks\, Kurusu\, Kuri\, more
URL:https://www.tokyogigguide.com/index.php?option=com_jem&view=event&id=18
 302:bear-bones-lay-low-keiji-haino-merzbow-dj-nobu-killer-bong-ypy-twinpea
 ks-kurusu-kuri&Itemid=1094
END:VEVENT
END:VCALENDAR
