BEGIN:VCALENDAR
VERSION:2.0
PRODID:-//104.152.168.27//NONSGML kigkonsult.se iCalcreator 2.20//
CALSCALE:GREGORIAN
METHOD:PUBLISH
X-WR-TIMEZONE:Asia/Tokyo
BEGIN:VEVENT
UID:event18291@Tokyo Gig Guide
DTSTAMP:20260420T110021Z
CATEGORIES:Ambient\, Electronic\, Experimental\, Festival\, Synth-pop
DESCRIPTION:Tokyo Festival of Modular Day 1: Sarah Davachi\, Baseck\, Hatak
 en ft. SUGIZO\, Taylor Deupree\, more\nカテゴリ: Ambient\, Electronic\, Experi
 mental\, Festival\, Synth-pop\nリンク: https://www.tokyogigguide.com/index.ph
 p?option=com_jem&view=event&id=18291:tokyo-festival-of-modular-day-1-sarah
 -davachi-baseck-hataken-ft-sugizo-taylor-deupree-more&Itemid=1094\n
DTSTART:20171118T120000
DTEND:20171118T120000
LOCATION:Contact\,B2F 2-10-12 DOGENZAKA\, SHIBUYA-KU\,Shibuya
SUMMARY:Tokyo Festival of Modular Day 1: Sarah Davachi\, Baseck\, Hataken f
 t. SUGIZO\, Taylor Deupree\, more
URL:https://www.tokyogigguide.com/index.php?option=com_jem&view=event&id=18
 291:tokyo-festival-of-modular-day-1-sarah-davachi-baseck-hataken-ft-sugizo
 -taylor-deupree-more&Itemid=1094
END:VEVENT
END:VCALENDAR
