BEGIN:VCALENDAR
VERSION:2.0
PRODID:-//104.152.168.27//NONSGML kigkonsult.se iCalcreator 2.20//
CALSCALE:GREGORIAN
METHOD:PUBLISH
X-WR-TIMEZONE:Asia/Tokyo
BEGIN:VEVENT
UID:event1794@Tokyo Gig Guide
DTSTAMP:20260420T010844Z
CATEGORIES:Psychedelic
DESCRIPTION:Majutsu no Niwa\, Aminome\nカテゴリ: Psychedelic\nリンク: https://www.
 tokyogigguide.com/index.php?option=com_jem&view=event&id=1794:majutsu-no-n
 iwa-2nd-album-fronterarelease-party-progressive-live-2009-passion-a-i&Item
 id=1094\n
DTSTART:20091030T190000
DTEND:20091030T190000
LOCATION:Silver Elephant\,2-10-6 B1\, Kichijoji Honmachi\,Kichijoji
SUMMARY:Majutsu no Niwa\, Aminome
URL:https://www.tokyogigguide.com/index.php?option=com_jem&view=event&id=17
 94:majutsu-no-niwa-2nd-album-fronterarelease-party-progressive-live-2009-p
 assion-a-i&Itemid=1094
END:VEVENT
END:VCALENDAR
