BEGIN:VCALENDAR
VERSION:2.0
PRODID:-//104.152.168.27//NONSGML kigkonsult.se iCalcreator 2.20//
CALSCALE:GREGORIAN
METHOD:PUBLISH
X-WR-TIMEZONE:Asia/Tokyo
BEGIN:VEVENT
UID:event1790@Tokyo Gig Guide
DTSTAMP:20260426T003732Z
CATEGORIES:Hardcore
DESCRIPTION:PISSCHRIST (australia)\, FRAMTID (osaka)\,  VIVISICK\, CONQUEST
  FOR DEATH (usa&jpn)\,more\nカテゴリ: Hardcore\nリンク: https://www.tokyogigguide
 .com/index.php?option=com_jem&view=event&id=1790:pisschrist-flamtid-vivisi
 ck-elekids-crow-kriegshog-conquest-for-death&Itemid=1094\n
DTSTART:20091103T180000
DTEND:20091103T180000
LOCATION:Earthdom\,Lisbon Bldg B1F\, 3-32-3 Okubo\, Shinjuku-ku\,Okubo
SUMMARY:PISSCHRIST (australia)\, FRAMTID (osaka)\,  VIVISICK\, CONQUEST FOR
  DEATH (usa&jpn)\,more
URL:https://www.tokyogigguide.com/index.php?option=com_jem&view=event&id=17
 90:pisschrist-flamtid-vivisick-elekids-crow-kriegshog-conquest-for-death&I
 temid=1094
END:VEVENT
END:VCALENDAR
