BEGIN:VCALENDAR
VERSION:2.0
PRODID:-//104.152.168.27//NONSGML kigkonsult.se iCalcreator 2.20//
CALSCALE:GREGORIAN
METHOD:PUBLISH
X-WR-TIMEZONE:Asia/Tokyo
BEGIN:VEVENT
UID:event17687@Tokyo Gig Guide
DTSTAMP:20260424T172216Z
CATEGORIES:Ambient\, Electronic
DESCRIPTION:Aoki takamasa\, Galcid\, Lauren Ritter\, Justin Marchacos\, Sug
 ai Ken\, Hi'Spec\, more\nカテゴリ: Ambient\, Electronic\nリンク: https://www.toky
 ogigguide.com/index.php?option=com_jem&view=event&id=17687:aoki-takamasa-g
 alcid-lauren-ritter-justin-marchacos-sugai-ken-hi-spec-more&Itemid=1094\n
DTSTART:20170908T220000
DTEND:20170908T220000
LOCATION:Contact\,B2F 2-10-12 DOGENZAKA\, SHIBUYA-KU\,Shibuya
SUMMARY:Aoki takamasa\, Galcid\, Lauren Ritter\, Justin Marchacos\, Sugai K
 en\, Hi'Spec\, more
URL:https://www.tokyogigguide.com/index.php?option=com_jem&view=event&id=17
 687:aoki-takamasa-galcid-lauren-ritter-justin-marchacos-sugai-ken-hi-spec-
 more&Itemid=1094
END:VEVENT
END:VCALENDAR
