BEGIN:VCALENDAR
VERSION:2.0
PRODID:-//104.152.168.27//NONSGML kigkonsult.se iCalcreator 2.20//
CALSCALE:GREGORIAN
METHOD:PUBLISH
X-WR-TIMEZONE:Asia/Tokyo
BEGIN:VEVENT
UID:event17132@Tokyo Gig Guide
DTSTAMP:20260421T093548Z
CATEGORIES:Acoustic\, Jazz
DESCRIPTION:THE DUO (Daisuke Suzuki\, Natsuki Kido)\nカテゴリ: Acoustic\, Jazz
 \nリンク: https://www.tokyogigguide.com/index.php?option=com_jem&view=event&i
 d=17132:the-duo-daisuke-suzuki-natsuki-kido&Itemid=1094\n
DTSTART:20170810T183000
DTEND:20170810T183000
LOCATION:El Choclo\,3-2-8 Minami-Ikebukuro\, Toshima-ku\,Zoshigaya
SUMMARY:THE DUO (Daisuke Suzuki\, Natsuki Kido)
URL:https://www.tokyogigguide.com/index.php?option=com_jem&view=event&id=17
 132:the-duo-daisuke-suzuki-natsuki-kido&Itemid=1094
END:VEVENT
END:VCALENDAR
