BEGIN:VCALENDAR
VERSION:2.0
PRODID:-//104.152.168.27//NONSGML kigkonsult.se iCalcreator 2.20//
CALSCALE:GREGORIAN
METHOD:PUBLISH
X-WR-TIMEZONE:Asia/Tokyo
BEGIN:VEVENT
UID:event168@Tokyo Gig Guide
DTSTAMP:20260423T140944Z
CATEGORIES:New Wave
DESCRIPTION:LIMAYE (France)\, emulsion\, KIDLAT\, takashinakaku\nカテゴリ: New 
 Wave\nリンク: https://www.tokyogigguide.com/index.php?option=com_jem&view=eve
 nt&id=168:limaye-france-emulsion-kidlat-takashinakaku&Itemid=1094\n
DTSTART:20081127T183000
DTEND:20081127T183000
LOCATION:Earthdom\,Lisbon Bldg B1F\, 3-32-3 Okubo\, Shinjuku-ku\,Okubo
SUMMARY:LIMAYE (France)\, emulsion\, KIDLAT\, takashinakaku
URL:https://www.tokyogigguide.com/index.php?option=com_jem&view=event&id=16
 8:limaye-france-emulsion-kidlat-takashinakaku&Itemid=1094
END:VEVENT
END:VCALENDAR
