BEGIN:VCALENDAR
VERSION:2.0
PRODID:-//104.152.168.27//NONSGML kigkonsult.se iCalcreator 2.20//
CALSCALE:GREGORIAN
METHOD:PUBLISH
X-WR-TIMEZONE:Asia/Tokyo
BEGIN:VEVENT
UID:event16578@Tokyo Gig Guide
DTSTAMP:20260425T035815Z
CATEGORIES:Unclassifiable
DESCRIPTION:Dōjō (Michiyo Yagi & Tamaya Honda)\nカテゴリ: Unclassifiable\nリンク: 
 https://www.tokyogigguide.com/index.php?option=com_jem&view=event&id=16578
 :dojo-michiyo-yagi-tamaya-honda&Itemid=1094\n
DTSTART:20170501T183000
DTEND:20170501T183000
LOCATION:Dolphy\,2-17-4-2F Miyagawa-cho\, Naka-ku\, Yokohama\,Yokohama
SUMMARY:Dōjō (Michiyo Yagi & Tamaya Honda)
URL:https://www.tokyogigguide.com/index.php?option=com_jem&view=event&id=16
 578:dojo-michiyo-yagi-tamaya-honda&Itemid=1094
END:VEVENT
END:VCALENDAR
