BEGIN:VCALENDAR
VERSION:2.0
PRODID:-//104.152.168.27//NONSGML kigkonsult.se iCalcreator 2.20//
CALSCALE:GREGORIAN
METHOD:PUBLISH
X-WR-TIMEZONE:Asia/Tokyo
BEGIN:VEVENT
UID:event15477@Tokyo Gig Guide
DTSTAMP:20260419T225027Z
CATEGORIES:Dub\, House
DESCRIPTION:Francois K\, Toshiyuki Goto\nカテゴリ: Dub\, House\nリンク: https://ww
 w.tokyogigguide.com/index.php?option=com_jem&view=event&id=15477:francois-
 k-toshiyuki-goto&Itemid=1094\n
DTSTART:20161231T210000
DTEND:20161231T210000
LOCATION:Contact\,B2F 2-10-12 DOGENZAKA\, SHIBUYA-KU\,Shibuya
SUMMARY:Francois K\, Toshiyuki Goto
URL:https://www.tokyogigguide.com/index.php?option=com_jem&view=event&id=15
 477:francois-k-toshiyuki-goto&Itemid=1094
END:VEVENT
END:VCALENDAR
