BEGIN:VCALENDAR
VERSION:2.0
PRODID:-//104.152.168.27//NONSGML kigkonsult.se iCalcreator 2.20//
CALSCALE:GREGORIAN
METHOD:PUBLISH
X-WR-TIMEZONE:Asia/Tokyo
BEGIN:VEVENT
UID:event15408@Tokyo Gig Guide
DTSTAMP:20260424T214736Z
CATEGORIES:Acoustic\, Instrumental\, Jazz
DESCRIPTION:FRET LAND (Yoshihiro Arita\, Natsuki Kido\, Shunji Takenaka)\nカ
 テゴリ: Acoustic\, Instrumental\, Jazz\nリンク: https://www.tokyogigguide.com/in
 dex.php?option=com_jem&view=event&id=15408:fret-land-yoshihiro-arita-natsu
 ki-kido-shunji-takenaka&Itemid=1094\n
DTSTART:20170118T190000
DTEND:20170118T190000
LOCATION:Rooster\,Inoue Bldg B1\, Ogikubo 5-16-15\, Suginami-ku\,Ogikubo
SUMMARY:FRET LAND (Yoshihiro Arita\, Natsuki Kido\, Shunji Takenaka)
URL:https://www.tokyogigguide.com/index.php?option=com_jem&view=event&id=15
 408:fret-land-yoshihiro-arita-natsuki-kido-shunji-takenaka&Itemid=1094
END:VEVENT
END:VCALENDAR
