BEGIN:VCALENDAR
VERSION:2.0
PRODID:-//104.152.168.27//NONSGML kigkonsult.se iCalcreator 2.20//
CALSCALE:GREGORIAN
METHOD:PUBLISH
X-WR-TIMEZONE:Asia/Tokyo
BEGIN:VEVENT
UID:event14995@Tokyo Gig Guide
DTSTAMP:20260419T201416Z
CATEGORIES:Dream-pop\, Electronic
DESCRIPTION:The xx\nカテゴリ: Dream-pop\, Electronic\nリンク: https://www.tokyogig
 guide.com/index.php?option=com_jem&view=event&id=14995:the-xx&Itemid=1094
 \n
DTSTART:20161206T180000
DTEND:20161206T180000
LOCATION:PIT\,Toyosu 6-1-23\, Koto-ku\, Tokyo\,Toyosu
SUMMARY:The xx
URL:https://www.tokyogigguide.com/index.php?option=com_jem&view=event&id=14
 995:the-xx&Itemid=1094
END:VEVENT
END:VCALENDAR
