BEGIN:VCALENDAR
VERSION:2.0
PRODID:-//104.152.168.27//NONSGML kigkonsult.se iCalcreator 2.20//
CALSCALE:GREGORIAN
METHOD:PUBLISH
X-WR-TIMEZONE:Asia/Tokyo
BEGIN:VEVENT
UID:event14640@Tokyo Gig Guide
DTSTAMP:20260422T183818Z
CATEGORIES:Jazz
DESCRIPTION:Koichi Yamaguchi + Kaido Yutaka + Darren Moore\nカテゴリ: Jazz\nリンク
 : https://www.tokyogigguide.com/index.php?option=com_jem&view=event&id=146
 40:koichi-yamaguchi-kaido-yutaka-darren-moore&Itemid=1094\n
DTSTART:20160914T190000
DTEND:20160914T190000
LOCATION:Thelonious\,5-9-1\, Higashi Nakano\, Nakano-ku\,Higashi-Nakano
SUMMARY:Koichi Yamaguchi + Kaido Yutaka + Darren Moore
URL:https://www.tokyogigguide.com/index.php?option=com_jem&view=event&id=14
 640:koichi-yamaguchi-kaido-yutaka-darren-moore&Itemid=1094
END:VEVENT
END:VCALENDAR
