BEGIN:VCALENDAR
VERSION:2.0
PRODID:-//104.152.168.27//NONSGML kigkonsult.se iCalcreator 2.20//
CALSCALE:GREGORIAN
METHOD:PUBLISH
X-WR-TIMEZONE:Asia/Tokyo
BEGIN:VEVENT
UID:event14468@Tokyo Gig Guide
DTSTAMP:20260423T112726Z
CATEGORIES:Indie-Pop\, Indie-Rock\, Electronic\, Mixed Genre\, Psychedelic
DESCRIPTION:FARM PARTY 20: dorcelsius (France)\, ビニールハウス5\, potlucks\, post
 card of japan\, harps\nカテゴリ: Indie-Pop\, Indie-Rock\, Electronic\, Mixed G
 enre\, Psychedelic\nリンク: https://www.tokyogigguide.com/index.php?option=co
 m_jem&view=event&id=14468:tokyo-gig-guide-presents-farm-party-20-5-postcar
 d-of-japan-potlucks-more&Itemid=1094\n
DTSTART:20161009T183000
DTEND:20161009T183000
LOCATION:Ruby Room\,2F Kasumi Bldg\, Dogenzaka 2-25-17\, Shibuya\,Shibuya
SUMMARY:FARM PARTY 20: dorcelsius (France)\, ビニールハウス5\, potlucks\, postcard
  of japan\, harps
URL:https://www.tokyogigguide.com/index.php?option=com_jem&view=event&id=14
 468:tokyo-gig-guide-presents-farm-party-20-5-postcard-of-japan-potlucks-mo
 re&Itemid=1094
END:VEVENT
END:VCALENDAR
