BEGIN:VCALENDAR
VERSION:2.0
PRODID:-//104.152.168.27//NONSGML kigkonsult.se iCalcreator 2.20//
CALSCALE:GREGORIAN
METHOD:PUBLISH
X-WR-TIMEZONE:Asia/Tokyo
BEGIN:VEVENT
UID:event14197@Tokyo Gig Guide
DTSTAMP:20260423T200202Z
CATEGORIES:Other
DESCRIPTION:陰猟腐厭\, Reiko.A\, TOMO\nカテゴリ: Other\nリンク: https://www.tokyogiggu
 ide.com/index.php?option=com_jem&view=event&id=14197:reiko-a-vo-piano-tomo
 -hurdy-gurdy&Itemid=1094\n
DTSTART:20160722T190000
DTEND:20160722T190000
LOCATION:Hikari No Uma\,B1 1-23-17 Hyakunin-cho\, Shinjuku-ku\, Tokyo\,Okub
 o
SUMMARY:陰猟腐厭\, Reiko.A\, TOMO
URL:https://www.tokyogigguide.com/index.php?option=com_jem&view=event&id=14
 197:reiko-a-vo-piano-tomo-hurdy-gurdy&Itemid=1094
END:VEVENT
END:VCALENDAR
