BEGIN:VCALENDAR
VERSION:2.0
PRODID:-//104.152.168.27//NONSGML kigkonsult.se iCalcreator 2.20//
CALSCALE:GREGORIAN
METHOD:PUBLISH
X-WR-TIMEZONE:Asia/Tokyo
BEGIN:VEVENT
UID:event13862@Tokyo Gig Guide
DTSTAMP:20260419T130815Z
CATEGORIES:Other
DESCRIPTION:Makigami-tachi\, Arujansu\, Kuroyagi Shiroyagi\, Kazuto Shimizu
 \nカテゴリ: Other\nリンク: https://www.tokyogigguide.com/index.php?option=com_jem
 &view=event&id=13862:makigami-tachi-arujansu-kuroyagi-shiroyagi-kazuto-shi
 mizu&Itemid=1094\n
DTSTART:20160505T193000
DTEND:20160505T193000
LOCATION:Airegin\,5-60 Sumiyoshi-cho\, Naka-ku\, Yokohama\, Kanagawa\,Yokoh
 ama
SUMMARY:Makigami-tachi\, Arujansu\, Kuroyagi Shiroyagi\, Kazuto Shimizu
URL:https://www.tokyogigguide.com/index.php?option=com_jem&view=event&id=13
 862:makigami-tachi-arujansu-kuroyagi-shiroyagi-kazuto-shimizu&Itemid=1094
END:VEVENT
END:VCALENDAR
