BEGIN:VCALENDAR
VERSION:2.0
PRODID:-//104.152.168.27//NONSGML kigkonsult.se iCalcreator 2.20//
CALSCALE:GREGORIAN
METHOD:PUBLISH
X-WR-TIMEZONE:Asia/Tokyo
BEGIN:VEVENT
UID:event1364@Tokyo Gig Guide
DTSTAMP:20260420T040045Z
CATEGORIES:Mixed Genre
DESCRIPTION:NEST FESTIVAL w/ Joe Lally\, Experimental Dental School\, OneOn
 e\, worlds end girlfriend\, moools\, more\nカテゴリ: Mixed Genre\nリンク: https:/
 /www.tokyogigguide.com/index.php?option=com_jem&view=event&id=1364:mitsuyo
 shi-azuma-a-the-swinging-boppers-worlds-end-girlfriend-moools&Itemid=1094
 \n
DTSTART:20091018T130000
DTEND:20091018T130000
LOCATION:O-East\,2F 2-14-9 Dogenzaka\, Shibuya-ku\,Shibuya
SUMMARY:NEST FESTIVAL w/ Joe Lally\, Experimental Dental School\, OneOne\, 
 worlds end girlfriend\, moools\, more
URL:https://www.tokyogigguide.com/index.php?option=com_jem&view=event&id=13
 64:mitsuyoshi-azuma-a-the-swinging-boppers-worlds-end-girlfriend-moools&It
 emid=1094
END:VEVENT
END:VCALENDAR
