BEGIN:VCALENDAR
VERSION:2.0
PRODID:-//104.152.168.27//NONSGML kigkonsult.se iCalcreator 2.20//
CALSCALE:GREGORIAN
METHOD:PUBLISH
X-WR-TIMEZONE:Asia/Tokyo
BEGIN:VEVENT
UID:event13519@Tokyo Gig Guide
DTSTAMP:20260420T031035Z
CATEGORIES:Free Jazz
DESCRIPTION:Suga Dairo + Ruike Shinpei + Darren Moore\nカテゴリ: Free Jazz\nリンク
 : https://www.tokyogigguide.com/index.php?option=com_jem&view=event&id=135
 19:suga-dairo-ruike-shinpei-darren-moore&Itemid=1094\n
DTSTART:20160407T183000
DTEND:20160407T183000
LOCATION:Airegin\,5-60 Sumiyoshi-cho\, Naka-ku\, Yokohama\, Kanagawa\,Yokoh
 ama
SUMMARY:Suga Dairo + Ruike Shinpei + Darren Moore
URL:https://www.tokyogigguide.com/index.php?option=com_jem&view=event&id=13
 519:suga-dairo-ruike-shinpei-darren-moore&Itemid=1094
END:VEVENT
END:VCALENDAR
