BEGIN:VCALENDAR
VERSION:2.0
PRODID:-//104.152.168.27//NONSGML kigkonsult.se iCalcreator 2.20//
CALSCALE:GREGORIAN
METHOD:PUBLISH
X-WR-TIMEZONE:Asia/Tokyo
BEGIN:VEVENT
UID:event13305@Tokyo Gig Guide
DTSTAMP:20260424T150519Z
CATEGORIES:Electronic
DESCRIPTION:DE DE MOUSE × 1\nカテゴリ: Electronic\nリンク: https://www.tokyogiggui
 de.com/index.php?option=com_jem&view=event&id=13305:de-de-mouse-1&Itemid=1
 094\n
DTSTART:20160210T180000
DTEND:20160210T180000
LOCATION:Liquidroom\,3-16-6 Higashi\, Shibuya-ku\, Tokyo\,Ebisu
SUMMARY:DE DE MOUSE × 1
URL:https://www.tokyogigguide.com/index.php?option=com_jem&view=event&id=13
 305:de-de-mouse-1&Itemid=1094
END:VEVENT
END:VCALENDAR
