BEGIN:VCALENDAR
VERSION:2.0
PRODID:-//104.152.168.27//NONSGML kigkonsult.se iCalcreator 2.20//
CALSCALE:GREGORIAN
METHOD:PUBLISH
X-WR-TIMEZONE:Asia/Tokyo
BEGIN:VEVENT
UID:event12696@Tokyo Gig Guide
DTSTAMP:20260422T044300Z
CATEGORIES:World
DESCRIPTION:Hiroko Matsubara / Marcos Fernandes Duo\nカテゴリ: World\nリンク: http
 s://www.tokyogigguide.com/index.php?option=com_jem&view=event&id=12696:hir
 oko-matsubara--marcos-fernandes-duo&Itemid=1094\n
DTSTART:20151029T193000
DTEND:20151029T193000
LOCATION:Shichoshitsu (Jinbocho)\,3-8-5 Nishi Kanda\, Chiyodaku\, Tokyo\,Ji
 mbocho
SUMMARY:Hiroko Matsubara / Marcos Fernandes Duo
URL:https://www.tokyogigguide.com/index.php?option=com_jem&view=event&id=12
 696:hiroko-matsubara--marcos-fernandes-duo&Itemid=1094
END:VEVENT
END:VCALENDAR
