BEGIN:VCALENDAR
VERSION:2.0
PRODID:-//104.152.168.27//NONSGML kigkonsult.se iCalcreator 2.20//
CALSCALE:GREGORIAN
METHOD:PUBLISH
X-WR-TIMEZONE:Asia/Tokyo
BEGIN:VEVENT
UID:event12366@Tokyo Gig Guide
DTSTAMP:20260420T032341Z
CATEGORIES:Jazz
DESCRIPTION:Jazz Piano Trio: Arumi Sato\, Yosuke Mitsuhashi\, Akitoshi Tani
 \nカテゴリ: Jazz\nリンク: https://www.tokyogigguide.com/index.php?option=com_jem&
 view=event&id=12366:jazz-piano-trio&Itemid=1094\n
DTSTART:20150830T183000
DTEND:20150830T183000
LOCATION:Thelonious\,5-9-1\, Higashi Nakano\, Nakano-ku\,Higashi-Nakano
SUMMARY:Jazz Piano Trio: Arumi Sato\, Yosuke Mitsuhashi\, Akitoshi Tani
URL:https://www.tokyogigguide.com/index.php?option=com_jem&view=event&id=12
 366:jazz-piano-trio&Itemid=1094
END:VEVENT
END:VCALENDAR
