BEGIN:VCALENDAR
VERSION:2.0
PRODID:-//104.152.168.27//NONSGML kigkonsult.se iCalcreator 2.20//
CALSCALE:GREGORIAN
METHOD:PUBLISH
X-WR-TIMEZONE:Asia/Tokyo
BEGIN:VEVENT
UID:event12318@Tokyo Gig Guide
DTSTAMP:20260424T125909Z
CATEGORIES:Noise
DESCRIPTION:Motomu Miura\, Ami-Bique\, USHIMITZ\, kato from heaven\nカテゴリ: N
 oise\nリンク: https://www.tokyogigguide.com/index.php?option=com_jem&view=eve
 nt&id=12318:motomu-miura-ami-bique-ushimitz-kato-from-heaven&Itemid=1094\n
DTSTART:20150810T190000
DTEND:20150810T190000
LOCATION:Hikari No Uma\,B1 1-23-17 Hyakunin-cho\, Shinjuku-ku\, Tokyo\,Okub
 o
SUMMARY:Motomu Miura\, Ami-Bique\, USHIMITZ\, kato from heaven
URL:https://www.tokyogigguide.com/index.php?option=com_jem&view=event&id=12
 318:motomu-miura-ami-bique-ushimitz-kato-from-heaven&Itemid=1094
END:VEVENT
END:VCALENDAR
