BEGIN:VCALENDAR
VERSION:2.0
PRODID:-//104.152.168.27//NONSGML kigkonsult.se iCalcreator 2.20//
CALSCALE:GREGORIAN
METHOD:PUBLISH
X-WR-TIMEZONE:Asia/Tokyo
BEGIN:VEVENT
UID:event11559@Tokyo Gig Guide
DTSTAMP:20260421T130604Z
CATEGORIES:Hardcore
DESCRIPTION:Self Deconstruction\, Contrast Attitude\, Square The Circle\, T
 ainted Dickmen\, O.G.D.\nカテゴリ: Hardcore\nリンク: https://www.tokyogigguide.co
 m/index.php?option=com_jem&view=event&id=11559:self-deconstructioncontrast
 -attitudesquare-the-circletainted-dickmenogd-etc&Itemid=1094\n
DTSTART:20150228T170000
DTEND:20150228T170000
LOCATION:El Puente\,B1 8-8 Nishihiranumacho\, Nishi-ku\, Yokohama\,Yokohama
SUMMARY:Self Deconstruction\, Contrast Attitude\, Square The Circle\, Taint
 ed Dickmen\, O.G.D.
URL:https://www.tokyogigguide.com/index.php?option=com_jem&view=event&id=11
 559:self-deconstructioncontrast-attitudesquare-the-circletainted-dickmenog
 d-etc&Itemid=1094
END:VEVENT
END:VCALENDAR
