BEGIN:VCALENDAR
VERSION:2.0
PRODID:-//104.152.168.27//NONSGML kigkonsult.se iCalcreator 2.20//
CALSCALE:GREGORIAN
METHOD:PUBLISH
X-WR-TIMEZONE:Asia/Tokyo
BEGIN:VEVENT
UID:event11471@Tokyo Gig Guide
DTSTAMP:20260422T205328Z
CATEGORIES:Alternative
DESCRIPTION:THE PRIMITIVES\, THE CATENARY WORES feat AMELIA FLETCHER\nカテゴリ:
  Alternative\nリンク: https://www.tokyogigguide.com/index.php?option=com_jem&
 view=event&id=11471:the-primitives-the-catenary-wores-feat-amelia-fletcher
 &Itemid=1094\n
DTSTART:20150221T180000
DTEND:20150221T180000
LOCATION:Zher The Zoo\,Yoyogi Park Bldg B1F\, Yoyogi 1-30-1\,Yoyogi
SUMMARY:THE PRIMITIVES\, THE CATENARY WORES feat AMELIA FLETCHER
URL:https://www.tokyogigguide.com/index.php?option=com_jem&view=event&id=11
 471:the-primitives-the-catenary-wores-feat-amelia-fletcher&Itemid=1094
END:VEVENT
END:VCALENDAR
