BEGIN:VCALENDAR
VERSION:2.0
PRODID:-//104.152.168.27//NONSGML kigkonsult.se iCalcreator 2.20//
CALSCALE:GREGORIAN
METHOD:PUBLISH
X-WR-TIMEZONE:Asia/Tokyo
BEGIN:VEVENT
UID:event10622@Tokyo Gig Guide
DTSTAMP:20260422T015358Z
CATEGORIES:Alternative
DESCRIPTION:GUIGUISUISUI\, Noise Arcade\, MYM\, Punk Disco\, Taura yorihisa
 \, Elephant noiz kashimashi\nカテゴリ: Alternative\nリンク: https://www.tokyogigg
 uide.com/index.php?option=com_jem&view=event&id=10622:guiguisuisui-noise-a
 rcade-mym-punk-disco-taura-yorihisa-elephant-noiz-kashimashi&Itemid=1094\n
DTSTART:20140731T190000
DTEND:20140731T190000
LOCATION:El Puente\,B1 8-8 Nishihiranumacho\, Nishi-ku\, Yokohama\,Yokohama
SUMMARY:GUIGUISUISUI\, Noise Arcade\, MYM\, Punk Disco\, Taura yorihisa\, E
 lephant noiz kashimashi
URL:https://www.tokyogigguide.com/index.php?option=com_jem&view=event&id=10
 622:guiguisuisui-noise-arcade-mym-punk-disco-taura-yorihisa-elephant-noiz-
 kashimashi&Itemid=1094
END:VEVENT
END:VCALENDAR
