BEGIN:VCALENDAR
VERSION:2.0
PRODID:-//104.152.168.27//NONSGML kigkonsult.se iCalcreator 2.20//
CALSCALE:GREGORIAN
METHOD:PUBLISH
X-WR-TIMEZONE:Asia/Tokyo
BEGIN:VEVENT
UID:event10575@Tokyo Gig Guide
DTSTAMP:20260424T114028Z
CATEGORIES:Mixed Genre
DESCRIPTION:Tokyo Gig Guide presents FARM PARTY 14: Meah! (USA)\, Jebiotto\
 , comorevi ButtEr fLy...\nカテゴリ: Mixed Genre\nリンク: https://www.tokyogigguid
 e.com/index.php?option=com_jem&view=event&id=10575:tokyo-gig-guide-present
 s-farm-party-14-meah-usa-comorevi-butter-fly-more&Itemid=1094\n
DTSTART:20141024T183000
DTEND:20141024T183000
LOCATION:Ruby Room\,2F Kasumi Bldg\, Dogenzaka 2-25-17\, Shibuya\,Shibuya
SUMMARY:Tokyo Gig Guide presents FARM PARTY 14: Meah! (USA)\, Jebiotto\, co
 morevi ButtEr fLy...
URL:https://www.tokyogigguide.com/index.php?option=com_jem&view=event&id=10
 575:tokyo-gig-guide-presents-farm-party-14-meah-usa-comorevi-butter-fly-mo
 re&Itemid=1094
END:VEVENT
END:VCALENDAR
