BEGIN:VCALENDAR
VERSION:2.0
PRODID:-//104.152.168.27//NONSGML kigkonsult.se iCalcreator 2.20//
CALSCALE:GREGORIAN
METHOD:PUBLISH
X-WR-TIMEZONE:Asia/Tokyo
BEGIN:VEVENT
UID:event10457@Tokyo Gig Guide
DTSTAMP:20260424T075311Z
CATEGORIES:Rock
DESCRIPTION:ele-phant\, LURKING FEAR\, NOISE A GOGO'S\nカテゴリ: Rock\nリンク: htt
 ps://www.tokyogigguide.com/index.php?option=com_jem&view=event&id=10457:qe
 lectric-booze-2days-day1q&Itemid=1094\n
DTSTART:20140802T173000
DTEND:20140802T173000
LOCATION:El Puente\,B1 8-8 Nishihiranumacho\, Nishi-ku\, Yokohama\,Yokohama
SUMMARY:ele-phant\, LURKING FEAR\, NOISE A GOGO'S
URL:https://www.tokyogigguide.com/index.php?option=com_jem&view=event&id=10
 457:qelectric-booze-2days-day1q&Itemid=1094
END:VEVENT
END:VCALENDAR
