BEGIN:VCALENDAR
VERSION:2.0
PRODID:-//104.152.168.27//NONSGML kigkonsult.se iCalcreator 2.20//
CALSCALE:GREGORIAN
METHOD:PUBLISH
X-WR-TIMEZONE:Asia/Tokyo
BEGIN:VEVENT
UID:event1007@Tokyo Gig Guide
DTSTAMP:20260423T133114Z
CATEGORIES:Mixed Genre
DESCRIPTION:Candles\, Yamaher\nカテゴリ: Mixed Genre\nリンク: https://www.tokyogig
 guide.com/index.php?option=com_jem&view=event&id=1007:candles-yamaher&Item
 id=1094\n
DTSTART:20090530T190000
DTEND:20090530T230000
LOCATION:Knock (Koenji)\,Koenji Minami 3-48-6  B1F\,Koenji
SUMMARY:Candles\, Yamaher
URL:https://www.tokyogigguide.com/index.php?option=com_jem&view=event&id=10
 07:candles-yamaher&Itemid=1094
END:VEVENT
END:VCALENDAR
