BEGIN:VCALENDAR
VERSION:2.0
PRODID:-//104.152.168.27//NONSGML kigkonsult.se iCalcreator 2.20//
CALSCALE:GREGORIAN
METHOD:PUBLISH
X-WR-TIMEZONE:Asia/Tokyo
BEGIN:VEVENT
UID:event10009@Tokyo Gig Guide
DTSTAMP:20260423T032311Z
CATEGORIES:Improvised
DESCRIPTION:Irreversible Chance Meeting 5: You Irie\, Yuichi Onoue\, Taiich
 i Kamimura\, more\nカテゴリ: Improvised\nリンク: https://www.tokyogigguide.com/in
 dex.php?option=com_jem&view=event&id=10009:irreversible-chance-meeting-5&I
 temid=1094\n
DTSTART:20140510T173000
DTEND:20140510T173000
LOCATION:Shichoshitsu (Jinbocho)\,3-8-5 Nishi Kanda\, Chiyodaku\, Tokyo\,Ji
 mbocho
SUMMARY:Irreversible Chance Meeting 5: You Irie\, Yuichi Onoue\, Taiichi Ka
 mimura\, more
URL:https://www.tokyogigguide.com/index.php?option=com_jem&view=event&id=10
 009:irreversible-chance-meeting-5&Itemid=1094
END:VEVENT
END:VCALENDAR
