BEGIN:VCALENDAR
VERSION:2.0
PRODID:-//104.152.168.27//NONSGML kigkonsult.se iCalcreator 2.20//
CALSCALE:GREGORIAN
METHOD:PUBLISH
X-WR-TIMEZONE:Asia/Tokyo
BEGIN:VEVENT
UID:event39637@Tokyo Gig Guide
DTSTAMP:20260420T080644Z
CATEGORIES:Experimental\, Improvised\, Noise\, Rock
DESCRIPTION:INCAPACITANTS × FUJIKAKE MASATAKA with HIROSE JUNJI\, KIRIHITO
 \nカテゴリ: Experimental\, Improvised\, Noise\, Rock\nリンク: https://www.tokyogi
 gguide.com/index.php?option=com_jem&view=event&id=39637:incapacitants-fuji
 kake-masataka-with-hirose-junji-kirihito\n
DTSTART:20260423T190000
DTEND:20260423T190000
LOCATION:Showboat\,Oak Hill Koenji B1F\, 3-17-2 Koenji Kita\,Koenji
SUMMARY:INCAPACITANTS × FUJIKAKE MASATAKA with HIROSE JUNJI\, KIRIHITO
URL:https://www.tokyogigguide.com/index.php?option=com_jem&view=event&id=39
 637:incapacitants-fujikake-masataka-with-hirose-junji-kirihito
END:VEVENT
BEGIN:VEVENT
UID:event39639@Tokyo Gig Guide
DTSTAMP:20260420T080644Z
CATEGORIES:Experimental\, Improvised\, Rock
DESCRIPTION:HONNO MAJIKA~NAHARU × OTOMO Yoshihide\nカテゴリ: Experimental\, Imp
 rovised\, Rock\nリンク: https://www.tokyogigguide.com/index.php?option=com_je
 m&view=event&id=39639:honno-majika-naharu-otomo-yoshihide\n
DTSTART:20260521T190000
DTEND:20260521T190000
LOCATION:Showboat\,Oak Hill Koenji B1F\, 3-17-2 Koenji Kita\,Koenji
SUMMARY:HONNO MAJIKA~NAHARU × OTOMO Yoshihide
URL:https://www.tokyogigguide.com/index.php?option=com_jem&view=event&id=39
 639:honno-majika-naharu-otomo-yoshihide
END:VEVENT
END:VCALENDAR
