BEGIN:VCALENDAR
VERSION:2.0
PRODID:-//104.152.168.27//NONSGML kigkonsult.se iCalcreator 2.20//
CALSCALE:GREGORIAN
METHOD:PUBLISH
X-WR-TIMEZONE:Asia/Tokyo
BEGIN:VEVENT
UID:event40701@Tokyo Gig Guide
DTSTAMP:20260426T005050Z
CATEGORIES:Mixed Genre
DESCRIPTION:BISING\nカテゴリ: Mixed Genre\nリンク: https://www.tokyogigguide.com/i
 ndex.php?option=com_jem&view=event&id=40701:bising\n
DTSTART:20260426T150000
DTEND:20260426T150000
LOCATION:Hill Valley Studio\,B1 5-18-20 Shinjuku\, Shinjuku-ku\, Tokyo  \,S
 hinjuku
SUMMARY:BISING
URL:https://www.tokyogigguide.com/index.php?option=com_jem&view=event&id=40
 701:bising
END:VEVENT
END:VCALENDAR
