BEGIN:VCALENDAR
VERSION:2.0
PRODID:-//104.152.168.27//NONSGML kigkonsult.se iCalcreator 2.20//
CALSCALE:GREGORIAN
METHOD:PUBLISH
X-WR-TIMEZONE:Asia/Tokyo
BEGIN:VEVENT
UID:event40589@Tokyo Gig Guide
DTSTAMP:20260419T170817Z
CATEGORIES:Avant garde\, Experimental\, Free Jazz\, Improvised\, Noise
DESCRIPTION:Kanalkrank and REFUGEES\nカテゴリ: Avant garde\, Experimental\, Fre
 e Jazz\, Improvised\, Noise\nリンク: https://www.tokyogigguide.com/index.php?
 option=com_jem&view=event&id=40589:kanalkrank-and-refugees-non-nationality
 -improv-space-o\n
DTSTART:20260424T190000
DTEND:20260424T190000
LOCATION:space o\,Sugizaki Bld. B1\, Chihaya 4-39-5\, Toshima-ku\,Senkawa
SUMMARY:Kanalkrank and REFUGEES
URL:https://www.tokyogigguide.com/index.php?option=com_jem&view=event&id=40
 589:kanalkrank-and-refugees-non-nationality-improv-space-o
END:VEVENT
END:VCALENDAR
