BEGIN:VCALENDAR
VERSION:2.0
PRODID:-//104.152.168.27//NONSGML kigkonsult.se iCalcreator 2.20//
CALSCALE:GREGORIAN
METHOD:PUBLISH
X-WR-TIMEZONE:Asia/Tokyo
BEGIN:VEVENT
UID:event40588@Tokyo Gig Guide
DTSTAMP:20260420T150029Z
CATEGORIES:Abstract\, Acoustic\, Experimental\, Free Jazz\, Improvised
DESCRIPTION:Hisao Fukushima + Kawol SamarQandi duo improv\nカテゴリ: Abstract\,
  Acoustic\, Experimental\, Free Jazz\, Improvised\nリンク: https://www.tokyog
 igguide.com/index.php?option=com_jem&view=event&id=40588:hisao-fukushima-k
 awol-samarqandi-duo-improv-mystic\n
DTSTART:20260418T183000
DTEND:20260418T183000
LOCATION:MYSTIC\,4-41-2 Nakayama\, Midori-ku\, Yokohama-shi\, Kanagawa\,Yok
 ohama
SUMMARY:Hisao Fukushima + Kawol SamarQandi duo improv
URL:https://www.tokyogigguide.com/index.php?option=com_jem&view=event&id=40
 588:hisao-fukushima-kawol-samarqandi-duo-improv-mystic
END:VEVENT
END:VCALENDAR
