BEGIN:VCALENDAR
VERSION:2.0
PRODID:-//104.152.168.27//NONSGML kigkonsult.se iCalcreator 2.20//
CALSCALE:GREGORIAN
METHOD:PUBLISH
X-WR-TIMEZONE:Asia/Tokyo
BEGIN:VEVENT
UID:event40131@Tokyo Gig Guide
DTSTAMP:20260420T181848Z
CATEGORIES:Alternative\, Emo\, Indie\, Post-Rock\, Rock
DESCRIPTION:musbime\, April Blue\, Luouf\, Laget's Jam Stack\, サバノオミソニー\, 海
 風邪\, のりもの\, Pygmy I'm cricket\, Souvenirism\, Umisaya\, 透明受胎\nカテゴリ: Altern
 ative\, Emo\, Indie\, Post-Rock\, Rock\nリンク: https://www.tokyogigguide.com
 /index.php?option=com_jem&view=event&id=40131:musbime-luouf-laget-s-jam-st
 ack-pygmy-i-m-cricket-souvenirism-umisaya\n
DTSTART:20260419T160000
DTEND:20260419T160000
LOCATION:Warp\,1-30-10 Honmachi\, Kichijoji\,Kichijoji
SUMMARY:musbime\, April Blue\, Luouf\, Laget's Jam Stack\, サバノオミソニー\, 海風邪\,
  のりもの\, Pygmy I'm cricket\, Souvenirism\, Umisaya\, 透明受胎
URL:https://www.tokyogigguide.com/index.php?option=com_jem&view=event&id=40
 131:musbime-luouf-laget-s-jam-stack-pygmy-i-m-cricket-souvenirism-umisaya
END:VEVENT
END:VCALENDAR
