BEGIN:VCALENDAR
VERSION:2.0
PRODID:-//104.152.168.27//NONSGML kigkonsult.se iCalcreator 2.20//
CALSCALE:GREGORIAN
METHOD:PUBLISH
X-WR-TIMEZONE:Asia/Tokyo
BEGIN:VEVENT
UID:event39968@Tokyo Gig Guide
DTSTAMP:20260422T134546Z
CATEGORIES:Alternative\, Emo\, Indie-Rock\, Post-Rock\, Rock
DESCRIPTION:musbime\, micoto\, umineco\, kienai\, 旧市街\nカテゴリ: Alternative\, 
 Emo\, Indie-Rock\, Post-Rock\, Rock\nリンク: https://www.tokyogigguide.com/in
 dex.php?option=com_jem&view=event&id=39968:musbime-micoto-umineco-kienai\n
DTSTART:20260425T173000
DTEND:20260425T173000
LOCATION:ERA\,Prima veil Shimokitazawa 4F\, 2-34-5\, Kitazawa\,Shimokitazaw
 a
SUMMARY:musbime\, micoto\, umineco\, kienai\, 旧市街
URL:https://www.tokyogigguide.com/index.php?option=com_jem&view=event&id=39
 968:musbime-micoto-umineco-kienai
END:VEVENT
END:VCALENDAR
